BEGIN:VCALENDAR
PRODID:-//SINGPromos.com//NONSGML v1.0//EN
VERSION:2.0
CALSCALE:GREGORIAN
METHOD:PUBLISH
X-WR-CALNAME:SINGPromos.com
X-ORIGINAL-URL:https://singpromos.com
X-WR-CALDESC:Events for SINGPromos.com
BEGIN:VEVENT
DTSTART:20250411T000000
DTEND:20250420T235900
DTSTAMP:20260420T074511
CREATED:20250410T160414
LAST-MODIFIED:20250405T171544
UID:288933@https://singpromos.com
SUMMARY:Morganfield's Offers 1-for-1 Baby Back Ribs from 11 to 20 April 2025
DESCRIPTION:Dig into 2 hearty slabs of ribs at Morganfield's this April. For more information, visit [ https://singpromos.com/dining-restaurants-food/morganfields-offers-1-for-1-baby-back-ribs-from-11-to-20-april-2025-288933/ ]. 
LOCATION:038983
URL:https://singpromos.com/dining-restaurants-food/morganfields-offers-1-for-1-baby-back-ribs-from-11-to-20-april-2025-288933/
END:VEVENT
END:VCALENDAR