BEGIN:VCALENDAR
PRODID:-//SINGPromos.com//NONSGML v1.0//EN
VERSION:2.0
CALSCALE:GREGORIAN
METHOD:PUBLISH
X-WR-CALNAME:SINGPromos.com
X-ORIGINAL-URL:https://singpromos.com
X-WR-CALDESC:Events for SINGPromos.com
BEGIN:VEVENT
DTSTART:20250408T000000
DTEND:20250408T235900
DTSTAMP:20260422T200352
CREATED:20250407T164026
LAST-MODIFIED:20250405T190226
UID:288942@https://singpromos.com
SUMMARY:Ben & Jerry's Free Cone Day returns to VivoCity with free scoops on 8 April 2025
DESCRIPTION:Free Cone Day returns to VivoCity on 8 April with scoops of joy and fan-favourite flavours. For more information, visit [ https://singpromos.com/dining-restaurants-food/ben-jerrys-free-cone-day-returns-to-vivocity-with-free-scoops-on-8-april-2025-288942/ ]. 
LOCATION:1 Harbour Front Walk, 098585
URL:https://singpromos.com/dining-restaurants-food/ben-jerrys-free-cone-day-returns-to-vivocity-with-free-scoops-on-8-april-2025-288942/
END:VEVENT
END:VCALENDAR