BEGIN:VCALENDAR
PRODID:-//SINGPromos.com//NONSGML v1.0//EN
VERSION:2.0
CALSCALE:GREGORIAN
METHOD:PUBLISH
X-WR-CALNAME:SINGPromos.com
X-ORIGINAL-URL:https://singpromos.com
X-WR-CALDESC:Events for SINGPromos.com
BEGIN:VEVENT
DTSTART:20250426T000000
DTEND:20250426T235900
DTSTAMP:20260423T232928
CREATED:20250426T015627
LAST-MODIFIED:20250410T221508
UID:289089@https://singpromos.com
SUMMARY:MILO Van to visit Lot One Mall on 26 April 2025
DESCRIPTION:Join MILO in celebrating MILO's 75th anniversary in Singapore. For more information, visit [ https://singpromos.com/dining-restaurants-food/milo-van-to-visit-lot-one-mall-on-26-april-2025-289089/ ]. 
LOCATION:
URL:https://singpromos.com/dining-restaurants-food/milo-van-to-visit-lot-one-mall-on-26-april-2025-289089/
END:VEVENT
END:VCALENDAR