BEGIN:VCALENDAR
PRODID:-//SINGPromos.com//NONSGML v1.0//EN
VERSION:2.0
CALSCALE:GREGORIAN
METHOD:PUBLISH
X-WR-CALNAME:SINGPromos.com
X-ORIGINAL-URL:https://singpromos.com
X-WR-CALDESC:Events for SINGPromos.com
BEGIN:VEVENT
DTSTART:20250414T000000
DTEND:20250418T235900
DTSTAMP:20260422T082233
CREATED:20250414T033444
LAST-MODIFIED:20250414T161451
UID:289169@https://singpromos.com
SUMMARY:McDonald's SG Has Limited-Time 2-for-$6 Ovaltine® McFlurry® Deal Till 18 Apr 2025
DESCRIPTION:Savour the Ovaltine® McFlurry® with this sweet 2-for-$6 deal. For more information, visit [ https://singpromos.com/dining-restaurants-food/mcdonalds-sg-has-limited-time-2-for-6-ovaltine-mcflurry-deal-till-18-apr-2025-289169/ ]. 
LOCATION:
URL:https://singpromos.com/dining-restaurants-food/mcdonalds-sg-has-limited-time-2-for-6-ovaltine-mcflurry-deal-till-18-apr-2025-289169/
END:VEVENT
END:VCALENDAR