BEGIN:VCALENDAR
PRODID:-//SINGPromos.com//NONSGML v1.0//EN
VERSION:2.0
CALSCALE:GREGORIAN
METHOD:PUBLISH
X-WR-CALNAME:SINGPromos.com
X-ORIGINAL-URL:https://singpromos.com
X-WR-CALDESC:Events for SINGPromos.com
BEGIN:VEVENT
DTSTART:20250424T000000
DTEND:20250507T235900
DTSTAMP:20260424T023540
CREATED:20250423T173452
LAST-MODIFIED:20250424T124631
UID:289414@https://singpromos.com
SUMMARY:Coffee Bean S'pore 50% OFF Rainbow Cake for Mother's Day Flash Sale from 24 Apr to 7 May 2025
DESCRIPTION:Surprise mum with a sweet 6" rainbow cake this Mother's Day. For more information, visit [ https://singpromos.com/dining-restaurants-food/coffee-bean-spore-50-off-rainbow-cake-for-mothers-day-flash-sale-from-24-apr-to-7-may-2025-289414/ ]. 
LOCATION:
URL:https://singpromos.com/dining-restaurants-food/coffee-bean-spore-50-off-rainbow-cake-for-mothers-day-flash-sale-from-24-apr-to-7-may-2025-289414/
END:VEVENT
END:VCALENDAR