BEGIN:VCALENDAR
PRODID:-//SINGPromos.com//NONSGML v1.0//EN
VERSION:2.0
CALSCALE:GREGORIAN
METHOD:PUBLISH
X-WR-CALNAME:SINGPromos.com
X-ORIGINAL-URL:https://singpromos.com
X-WR-CALDESC:Events for SINGPromos.com
BEGIN:VEVENT
DTSTART:20250424T000000
DTEND:20250430T235900
DTSTAMP:20260424T003153
CREATED:20250424T133021
LAST-MODIFIED:20250424T135548
UID:289427@https://singpromos.com
SUMMARY:Giant S'pore selling Kunafa Chocolate at S$9.45, Ben & Jerry's at S$19.90 for two pints and more until 30 Apr 2025
DESCRIPTION:Savour ice cream and viral desserts with Giant's limited-time promos. For more information, visit [ https://singpromos.com/dining-restaurants-food/giant-spore-selling-kunafa-chocolate-at-s9-45-ben-jerrys-at-s19-90-for-two-pints-and-more-until-30-apr-2025-289427/ ]. 
LOCATION:
URL:https://singpromos.com/dining-restaurants-food/giant-spore-selling-kunafa-chocolate-at-s9-45-ben-jerrys-at-s19-90-for-two-pints-and-more-until-30-apr-2025-289427/
END:VEVENT
END:VCALENDAR