BEGIN:VCALENDAR
PRODID:-//SINGPromos.com//NONSGML v1.0//EN
VERSION:2.0
CALSCALE:GREGORIAN
METHOD:PUBLISH
X-WR-CALNAME:SINGPromos.com
X-ORIGINAL-URL:https://singpromos.com
X-WR-CALDESC:Events for SINGPromos.com
BEGIN:VEVENT
DTSTART:20250428T000000
DTEND:20250707T235900
DTSTAMP:20260424T023541
CREATED:20250428T021234
LAST-MODIFIED:20250710T135257
UID:289457@https://singpromos.com
SUMMARY:McDonald's S'pore Offers $1 McCafé® Coffees on Weekdays from 28 April 2025
DESCRIPTION:Perk up your weekdays. For more information, visit [ https://singpromos.com/dining-restaurants-food/mcdonalds-spore-offers-1-mccafe-coffees-on-weekdays-from-28-april-to-28-may-2025-289457/ ]. 
LOCATION:
URL:https://singpromos.com/dining-restaurants-food/mcdonalds-spore-offers-1-mccafe-coffees-on-weekdays-from-28-april-to-28-may-2025-289457/
END:VEVENT
END:VCALENDAR