BEGIN:VCALENDAR
PRODID:-//SINGPromos.com//NONSGML v1.0//EN
VERSION:2.0
CALSCALE:GREGORIAN
METHOD:PUBLISH
X-WR-CALNAME:SINGPromos.com
X-ORIGINAL-URL:https://singpromos.com
X-WR-CALDESC:Events for SINGPromos.com
BEGIN:VEVENT
DTSTART:20250430T000000
DTEND:20250504T235900
DTSTAMP:20260422T082237
CREATED:20250430T015708
LAST-MODIFIED:20250428T030442
UID:289498@https://singpromos.com
SUMMARY:Sephora Singapore Summer Sale Has Up to 20% Off Until 4 May 2025
DESCRIPTION:Enjoy exclusive Beauty Pass savings and perks during Sephora Singapore's Summer Sale. For more information, visit [ https://singpromos.com/beauty/sephora-singapore-summer-sale-has-up-to-20-off-until-4-may-2025-289498/ ]. 
LOCATION:
URL:https://singpromos.com/beauty/sephora-singapore-summer-sale-has-up-to-20-off-until-4-may-2025-289498/
END:VEVENT
END:VCALENDAR