BEGIN:VCALENDAR
PRODID:-//SINGPromos.com//NONSGML v1.0//EN
VERSION:2.0
CALSCALE:GREGORIAN
METHOD:PUBLISH
X-WR-CALNAME:SINGPromos.com
X-ORIGINAL-URL:https://singpromos.com
X-WR-CALDESC:Events for SINGPromos.com
BEGIN:VEVENT
DTSTART:20250501T000000
DTEND:20250501T235900
DTSTAMP:20260424T005506
CREATED:20250430T171306
LAST-MODIFIED:20250430T175305
UID:289587@https://singpromos.com
SUMMARY:Tuk Tuk Cha to offer $1.90 Signature Thai Milk Tea on Labour Day, 1 May 2025 (12pm to 5pm)
DESCRIPTION:Enjoy Signature Thai Milk Tea for only $1.90 at Tuk Tuk Cha outlets this Labour Day. For more information, visit [ https://singpromos.com/dining-restaurants-food/tuk-tuk-cha-to-offer-1-90-signature-thai-milk-tea-on-labour-day-1-may-2025-12pm-to-5pm-289587/ ]. 
LOCATION:
URL:https://singpromos.com/dining-restaurants-food/tuk-tuk-cha-to-offer-1-90-signature-thai-milk-tea-on-labour-day-1-may-2025-12pm-to-5pm-289587/
END:VEVENT
END:VCALENDAR