BEGIN:VCALENDAR
PRODID:-//SINGPromos.com//NONSGML v1.0//EN
VERSION:2.0
CALSCALE:GREGORIAN
METHOD:PUBLISH
X-WR-CALNAME:SINGPromos.com
X-ORIGINAL-URL:https://singpromos.com
X-WR-CALDESC:Events for SINGPromos.com
BEGIN:VEVENT
DTSTART:20250430T000000
DTEND:20250527T235900
DTSTAMP:20260422T212733
CREATED:20250501T054456
LAST-MODIFIED:20250430T224805
UID:289605@https://singpromos.com
SUMMARY:Maybank S'pore offers up to 14.05% with latest 5-years structured deposit, apply by 27 May 2025
DESCRIPTION:Profit payment every year. For more information, visit [ https://singpromos.com/banks-credit-cards/maybank-spore-offers-up-to-14-05-with-latest-5-years-structured-deposit-apply-by-27-may-2025-289605/ ]. 
LOCATION:
URL:https://singpromos.com/banks-credit-cards/maybank-spore-offers-up-to-14-05-with-latest-5-years-structured-deposit-apply-by-27-may-2025-289605/
END:VEVENT
END:VCALENDAR