BEGIN:VCALENDAR
PRODID:-//SINGPromos.com//NONSGML v1.0//EN
VERSION:2.0
CALSCALE:GREGORIAN
METHOD:PUBLISH
X-WR-CALNAME:SINGPromos.com
X-ORIGINAL-URL:https://singpromos.com
X-WR-CALDESC:Events for SINGPromos.com
BEGIN:VEVENT
DTSTART:20250501T000000
DTEND:20250504T235900
DTSTAMP:20260422T082311
CREATED:20250501T132154
LAST-MODIFIED:20250501T145934
UID:289634@https://singpromos.com
SUMMARY:50% OFF FairPrice Thai Hom Mali Superior Fragrant Rice 5kg until 4 May 2025
DESCRIPTION:While stocks last. For more information, visit [ https://singpromos.com/dining-restaurants-food/50-off-fairprice-thai-hom-mali-superior-fragrant-rice-5kg-until-4-may-2025-289634/ ]. 
LOCATION:
URL:https://singpromos.com/dining-restaurants-food/50-off-fairprice-thai-hom-mali-superior-fragrant-rice-5kg-until-4-may-2025-289634/
END:VEVENT
END:VCALENDAR