BEGIN:VCALENDAR
PRODID:-//SINGPromos.com//NONSGML v1.0//EN
VERSION:2.0
CALSCALE:GREGORIAN
METHOD:PUBLISH
X-WR-CALNAME:SINGPromos.com
X-ORIGINAL-URL:https://singpromos.com
X-WR-CALDESC:Events for SINGPromos.com
BEGIN:VEVENT
DTSTART:20250508T000000
DTEND:20250528T235900
DTSTAMP:20260422T063148
CREATED:20250508T020731
LAST-MODIFIED:20250507T232223
UID:289811@https://singpromos.com
SUMMARY:Free Winnie the Pooh cooler bags up for grabs with VITAGEN purchase till 28 May 2025
DESCRIPTION:Redeem a limited-edition Pooh cooler bag with any 3 VITAGEN Less Sugar pack purchases. For more information, visit [ https://singpromos.com/dining-restaurants-food/free-winnie-the-pooh-cooler-bags-up-for-grabs-with-vitagen-purchase-till-28-may-2025-289811/ ]. 
LOCATION:
URL:https://singpromos.com/dining-restaurants-food/free-winnie-the-pooh-cooler-bags-up-for-grabs-with-vitagen-purchase-till-28-may-2025-289811/
END:VEVENT
END:VCALENDAR