BEGIN:VCALENDAR
PRODID:-//SINGPromos.com//NONSGML v1.0//EN
VERSION:2.0
CALSCALE:GREGORIAN
METHOD:PUBLISH
X-WR-CALNAME:SINGPromos.com
X-ORIGINAL-URL:https://singpromos.com
X-WR-CALDESC:Events for SINGPromos.com
BEGIN:VEVENT
DTSTART:20250515T000000
DTEND:20250518T235900
DTSTAMP:20260422T082300
CREATED:20250514T160312
LAST-MODIFIED:20250514T172410
UID:289899@https://singpromos.com
SUMMARY:Godiva S'pore rolls out sweet deals at Takashimaya store from 15 to 18 May 2025
DESCRIPTION:Irresistible chocolate and ice cream deals await. For more information, visit [ https://singpromos.com/dining-restaurants-food/godiva-spore-rolls-out-sweet-deals-at-takashimaya-store-from-15-to-18-may-2025-289899/ ]. 
LOCATION:238873
URL:https://singpromos.com/dining-restaurants-food/godiva-spore-rolls-out-sweet-deals-at-takashimaya-store-from-15-to-18-may-2025-289899/
END:VEVENT
END:VCALENDAR