BEGIN:VCALENDAR
PRODID:-//SINGPromos.com//NONSGML v1.0//EN
VERSION:2.0
CALSCALE:GREGORIAN
METHOD:PUBLISH
X-WR-CALNAME:SINGPromos.com
X-ORIGINAL-URL:https://singpromos.com
X-WR-CALDESC:Events for SINGPromos.com
BEGIN:VEVENT
DTSTART:20250528T000000
DTEND:20250609T235900
DTSTAMP:20260420T190525
CREATED:20250526T201543
LAST-MODIFIED:20250527T011354
UID:290323@https://singpromos.com
SUMMARY:NDP 2025 tickets applications to open from 28 May - 9 June 2025
DESCRIPTION:Ballot for your chance to attend NDP 2025 at The Padang. For more information, visit [ https://singpromos.com/places-of-interest/ndp-2025-tickets-applications-to-open-from-28-may-9-june-2025-290323/ ]. 
LOCATION:
URL:https://singpromos.com/places-of-interest/ndp-2025-tickets-applications-to-open-from-28-may-9-june-2025-290323/
END:VEVENT
END:VCALENDAR