BEGIN:VCALENDAR
PRODID:-//SINGPromos.com//NONSGML v1.0//EN
VERSION:2.0
CALSCALE:GREGORIAN
METHOD:PUBLISH
X-WR-CALNAME:SINGPromos.com
X-ORIGINAL-URL:https://singpromos.com
X-WR-CALDESC:Events for SINGPromos.com
BEGIN:VEVENT
DTSTART:20250527T000000
DTEND:20250527T235900
DTSTAMP:20260422T040034
CREATED:20250527T100404
LAST-MODIFIED:20250527T184713
UID:290332@https://singpromos.com
SUMMARY:Scoot One-Day Flash Sale Has Fares fr $70 to Over 50 Global Destinations, Book by 27 May 2025
DESCRIPTION:Limited-time travel deal from Scoot for over 50 destinations. For more information, visit [ https://singpromos.com/airlines-flights/scoot-one-day-flash-sale-has-fares-fr-70-to-over-50-global-destinations-book-by-27-may-2025-290332/ ]. 
LOCATION:
URL:https://singpromos.com/airlines-flights/scoot-one-day-flash-sale-has-fares-fr-70-to-over-50-global-destinations-book-by-27-may-2025-290332/
END:VEVENT
END:VCALENDAR