BEGIN:VCALENDAR
PRODID:-//SINGPromos.com//NONSGML v1.0//EN
VERSION:2.0
CALSCALE:GREGORIAN
METHOD:PUBLISH
X-WR-CALNAME:SINGPromos.com
X-ORIGINAL-URL:https://singpromos.com
X-WR-CALDESC:Events for SINGPromos.com
BEGIN:VEVENT
DTSTART:20250606T000000
DTEND:20250606T235900
DTSTAMP:20260420T172827
CREATED:20250604T141903
LAST-MODIFIED:20250604T142230
UID:290580@https://singpromos.com
SUMMARY:Dunkin' S'pore Has $1 Sugar Raised Donut Promo for Global Donut Day on 6 June 2025
DESCRIPTION:Celebrate Global Donut Day with a sweet $1 treat from Dunkin'. For more information, visit [ https://singpromos.com/dining-restaurants-food/dunkin-spore-has-1-sugar-donut-promo-for-global-donut-day-on-6-june-2025-290580/ ]. 
LOCATION:
URL:https://singpromos.com/dining-restaurants-food/dunkin-spore-has-1-sugar-donut-promo-for-global-donut-day-on-6-june-2025-290580/
END:VEVENT
END:VCALENDAR