BEGIN:VCALENDAR
PRODID:-//SINGPromos.com//NONSGML v1.0//EN
VERSION:2.0
CALSCALE:GREGORIAN
METHOD:PUBLISH
X-WR-CALNAME:SINGPromos.com
X-ORIGINAL-URL:https://singpromos.com
X-WR-CALDESC:Events for SINGPromos.com
BEGIN:VEVENT
DTSTART:20250606T000000
DTEND:20250606T235900
DTSTAMP:20260420T003216
CREATED:20250606T012631
LAST-MODIFIED:20250606T104526
UID:290650@https://singpromos.com
SUMMARY:Crocs Singapore Offers 30% Off Almost Everything in 24-Hour Flash Sale on 6 June 2025
DESCRIPTION:Step into savings with Crocs' limited-time flash deal. For more information, visit [ https://singpromos.com/footwear/crocs-singapore-offers-30-off-almost-everything-in-24-hour-flash-sale-on-6-june-2025-290650/ ]. 
LOCATION:
URL:https://singpromos.com/footwear/crocs-singapore-offers-30-off-almost-everything-in-24-hour-flash-sale-on-6-june-2025-290650/
END:VEVENT
END:VCALENDAR