BEGIN:VCALENDAR
PRODID:-//SINGPromos.com//NONSGML v1.0//EN
VERSION:2.0
CALSCALE:GREGORIAN
METHOD:PUBLISH
X-WR-CALNAME:SINGPromos.com
X-ORIGINAL-URL:https://singpromos.com
X-WR-CALDESC:Events for SINGPromos.com
BEGIN:VEVENT
DTSTART:20250618T000000
DTEND:20250625T235900
DTSTAMP:20260420T003216
CREATED:20250618T140626
LAST-MODIFIED:20250618T141553
UID:290915@https://singpromos.com
SUMMARY:AirAsia Celebrates 16 Years of Skytrax Wins with All-in Fares from Just $72 until 25 June, travel up to Mar 2026
DESCRIPTION:Enjoy great fares and added perks when you book with AirAsia. For more information, visit [ https://singpromos.com/airlines-flights/airasia-celebrates-16-years-of-skytrax-wins-with-all-in-fares-from-just-72-until-25-june-travel-up-to-mar-2025-290915/ ]. 
LOCATION:
URL:https://singpromos.com/airlines-flights/airasia-celebrates-16-years-of-skytrax-wins-with-all-in-fares-from-just-72-until-25-june-travel-up-to-mar-2025-290915/
END:VEVENT
END:VCALENDAR