BEGIN:VCALENDAR
PRODID:-//SINGPromos.com//NONSGML v1.0//EN
VERSION:2.0
CALSCALE:GREGORIAN
METHOD:PUBLISH
X-WR-CALNAME:SINGPromos.com
X-ORIGINAL-URL:https://singpromos.com
X-WR-CALDESC:Events for SINGPromos.com
BEGIN:VEVENT
DTSTART:20250619T000000
DTEND:20250710T235900
DTSTAMP:20260419T232225
CREATED:20250619T015341
LAST-MODIFIED:20250619T013136
UID:290930@https://singpromos.com
SUMMARY:GOG.com Summer Sale Returns with Over 8,000 Gaming Deals Up to 95% Off Till 10 July 2025
DESCRIPTION:Fill your summer with over 8,000 gaming deals at discounts of up to 95%, ending 10 July 2025. For more information, visit [ https://singpromos.com/video-games/gog-com-summer-sale-returns-with-over-8000-gaming-deals-up-to-95-off-till-10-july-2025-290930/ ]. 
LOCATION:
URL:https://singpromos.com/video-games/gog-com-summer-sale-returns-with-over-8000-gaming-deals-up-to-95-off-till-10-july-2025-290930/
END:VEVENT
END:VCALENDAR