BEGIN:VCALENDAR
PRODID:-//SINGPromos.com//NONSGML v1.0//EN
VERSION:2.0
CALSCALE:GREGORIAN
METHOD:PUBLISH
X-WR-CALNAME:SINGPromos.com
X-ORIGINAL-URL:https://singpromos.com
X-WR-CALDESC:Events for SINGPromos.com
BEGIN:VEVENT
DTSTART:20250619T000000
DTEND:20250630T235900
DTSTAMP:20260420T003218
CREATED:20250619T133020
LAST-MODIFIED:20250619T133403
UID:290949@https://singpromos.com
SUMMARY:Crocs S'pore launches EOFY Sale with up to 40% off and stackable 12% promo code until 30 Jun 2025
DESCRIPTION:Step into savings with Crocs EOFY deals in Singapore. For more information, visit [ https://singpromos.com/footwear/crocs-spore-launches-eofy-sale-with-up-to-40-off-and-stackable-12-promo-code-until-30-jun-2025-290949/ ]. 
LOCATION:
URL:https://singpromos.com/footwear/crocs-spore-launches-eofy-sale-with-up-to-40-off-and-stackable-12-promo-code-until-30-jun-2025-290949/
END:VEVENT
END:VCALENDAR