BEGIN:VCALENDAR
PRODID:-//SINGPromos.com//NONSGML v1.0//EN
VERSION:2.0
CALSCALE:GREGORIAN
METHOD:PUBLISH
X-WR-CALNAME:SINGPromos.com
X-ORIGINAL-URL:https://singpromos.com
X-WR-CALDESC:Events for SINGPromos.com
BEGIN:VEVENT
DTSTART:20250701T000000
DTEND:20250731T235900
DTSTAMP:20260420T021753
CREATED:20250701T182843
LAST-MODIFIED:20250804T162047
UID:291364@https://singpromos.com
SUMMARY:foodpanda Singapore July 2025 promo codes & discounts
DESCRIPTION:Score the best deals at Foodpanda. For more information, visit [ https://singpromos.com/dining-restaurants-food/foodpanda-singapore-july-2025-promo-codes-discounts-291364/ ]. 
LOCATION:
URL:https://singpromos.com/dining-restaurants-food/foodpanda-singapore-july-2025-promo-codes-discounts-291364/
END:VEVENT
END:VCALENDAR