BEGIN:VCALENDAR
PRODID:-//SINGPromos.com//NONSGML v1.0//EN
VERSION:2.0
CALSCALE:GREGORIAN
METHOD:PUBLISH
X-WR-CALNAME:SINGPromos.com
X-ORIGINAL-URL:https://singpromos.com
X-WR-CALDESC:Events for SINGPromos.com
BEGIN:VEVENT
DTSTART:20250708T000000
DTEND:20250710T235900
DTSTAMP:20260420T190525
CREATED:20250707T160144
LAST-MODIFIED:20250720T125401
UID:291509@https://singpromos.com
SUMMARY:Dunkin' S'pore Rolls Out $1.60 Donuts & Drinks at Select Outlets for 3 Days Only from 8-10 July 2025
DESCRIPTION:Celebrate sweet savings at Dunkin' with $1.60 donuts and drinks. For more information, visit [ https://singpromos.com/dining-restaurants-food/dunkin-spore-rolls-out-1-60-donuts-drinks-at-select-outlets-for-3-days-only-from-8-10-july-2025-291509/ ]. 
LOCATION:
URL:https://singpromos.com/dining-restaurants-food/dunkin-spore-rolls-out-1-60-donuts-drinks-at-select-outlets-for-3-days-only-from-8-10-july-2025-291509/
END:VEVENT
END:VCALENDAR