BEGIN:VCALENDAR
PRODID:-//SINGPromos.com//NONSGML v1.0//EN
VERSION:2.0
CALSCALE:GREGORIAN
METHOD:PUBLISH
X-WR-CALNAME:SINGPromos.com
X-ORIGINAL-URL:https://singpromos.com
X-WR-CALDESC:Events for SINGPromos.com
BEGIN:VEVENT
DTSTART:20250717T000000
DTEND:20250723T235900
DTSTAMP:20260420T021907
CREATED:20250717T163640
LAST-MODIFIED:20250720T201137
UID:291928@https://singpromos.com
SUMMARY:FairPrice Has 50% Off Haagen-Dazs Mini Cups & More Deals for Link Members Until 23 Jul 2025
DESCRIPTION:Enjoy 50% savings on select treats at FairPrice. For more information, visit [ https://singpromos.com/dining-restaurants-food/fairprice-has-50-off-haagen-dazs-mini-cups-more-deals-for-link-members-until-23-jul-2025-291928/ ]. 
LOCATION:
URL:https://singpromos.com/dining-restaurants-food/fairprice-has-50-off-haagen-dazs-mini-cups-more-deals-for-link-members-until-23-jul-2025-291928/
END:VEVENT
END:VCALENDAR