BEGIN:VCALENDAR
PRODID:-//SINGPromos.com//NONSGML v1.0//EN
VERSION:2.0
CALSCALE:GREGORIAN
METHOD:PUBLISH
X-WR-CALNAME:SINGPromos.com
X-ORIGINAL-URL:https://singpromos.com
X-WR-CALDESC:Events for SINGPromos.com
BEGIN:VEVENT
DTSTART:20250718T000000
DTEND:20250720T235900
DTSTAMP:20260420T021752
CREATED:20250718T014449
LAST-MODIFIED:20250718T020614
UID:291949@https://singpromos.com
SUMMARY:Crocs Singapore Launches Buy 2, Get 1 Free Promo on Sale Items Until 20 July 2025
DESCRIPTION:Limited-time Crocs promotion offers stylish savings. For more information, visit [ https://singpromos.com/footwear/crocs-singapore-launches-buy-2-get-1-free-promo-on-sale-items-until-20-july-2025-291949/ ]. 
LOCATION:
URL:https://singpromos.com/footwear/crocs-singapore-launches-buy-2-get-1-free-promo-on-sale-items-until-20-july-2025-291949/
END:VEVENT
END:VCALENDAR