BEGIN:VCALENDAR
PRODID:-//SINGPromos.com//NONSGML v1.0//EN
VERSION:2.0
CALSCALE:GREGORIAN
METHOD:PUBLISH
X-WR-CALNAME:SINGPromos.com
X-ORIGINAL-URL:https://singpromos.com
X-WR-CALDESC:Events for SINGPromos.com
BEGIN:VEVENT
DTSTART:20250721T000000
DTEND:20250725T235900
DTSTAMP:20260422T082118
CREATED:20250721T134346
LAST-MODIFIED:20250721T134517
UID:291987@https://singpromos.com
SUMMARY:Scoot S'pore 20% Off Flights For DBS/POSB Cardholders to Over 55 Cities Worldwide Till 25 Jul 2025
DESCRIPTION:Save 20% on flights with DBS/POSB cards. For more information, visit [ https://singpromos.com/airlines-flights/scoot-spore-20-off-flights-for-dbs-posb-cardholders-to-over-55-cities-worldwide-till-25-jul-2025-291987/ ]. 
LOCATION:
URL:https://singpromos.com/airlines-flights/scoot-spore-20-off-flights-for-dbs-posb-cardholders-to-over-55-cities-worldwide-till-25-jul-2025-291987/
END:VEVENT
END:VCALENDAR