BEGIN:VCALENDAR
PRODID:-//SINGPromos.com//NONSGML v1.0//EN
VERSION:2.0
CALSCALE:GREGORIAN
METHOD:PUBLISH
X-WR-CALNAME:SINGPromos.com
X-ORIGINAL-URL:https://singpromos.com
X-WR-CALDESC:Events for SINGPromos.com
BEGIN:VEVENT
DTSTART:20250801T000000
DTEND:20250809T235900
DTSTAMP:20260420T050959
CREATED:20250730T193610
LAST-MODIFIED:20250731T130222
UID:292388@https://singpromos.com
SUMMARY:Hokkaido Cheese Tart S'pore Has Buy 3 Cheese Tarts, Get Next 3 at 60% Off from 1-9 August 2025
DESCRIPTION:Tart-ally irresistible deal. For more information, visit [ https://singpromos.com/dining-restaurants-food/hokkaido-cheese-tart-spore-has-buy-3-cheese-tarts-get-next-3-at-60-off-from-1-9-august-2025-292388/ ]. 
LOCATION:
URL:https://singpromos.com/dining-restaurants-food/hokkaido-cheese-tart-spore-has-buy-3-cheese-tarts-get-next-3-at-60-off-from-1-9-august-2025-292388/
END:VEVENT
END:VCALENDAR