BEGIN:VCALENDAR
PRODID:-//SINGPromos.com//NONSGML v1.0//EN
VERSION:2.0
CALSCALE:GREGORIAN
METHOD:PUBLISH
X-WR-CALNAME:SINGPromos.com
X-ORIGINAL-URL:https://singpromos.com
X-WR-CALDESC:Events for SINGPromos.com
BEGIN:VEVENT
DTSTART:20250730T000000
DTEND:20250901T235900
DTSTAMP:20260420T050959
CREATED:20250731T050446
LAST-MODIFIED:20250730T211807
UID:292395@https://singpromos.com
SUMMARY:O&O Software Launches 50% Off Summer Sale Until 1 Sep 2025 - No Min. Spend Required
DESCRIPTION:Get 50% off all O&O Software tools with no minimum spend. For more information, visit [ https://singpromos.com/computers-pc/oo-software-launches-50-off-summer-sale-until-1-sep-2025-no-min-spend-required-292395/ ]. 
LOCATION:
URL:https://singpromos.com/computers-pc/oo-software-launches-50-off-summer-sale-until-1-sep-2025-no-min-spend-required-292395/
END:VEVENT
END:VCALENDAR