BEGIN:VCALENDAR
PRODID:-//SINGPromos.com//NONSGML v1.0//EN
VERSION:2.0
CALSCALE:GREGORIAN
METHOD:PUBLISH
X-WR-CALNAME:SINGPromos.com
X-ORIGINAL-URL:https://singpromos.com
X-WR-CALDESC:Events for SINGPromos.com
BEGIN:VEVENT
DTSTART:20250801T000000
DTEND:20250811T235900
DTSTAMP:20260420T040715
CREATED:20250801T050148
LAST-MODIFIED:20250801T014444
UID:292445@https://singpromos.com
SUMMARY:Crocs S'pore National Day Promo: Enjoy 25% Off $120 & 35% Off $180 Spend Till 11 Aug 2025
DESCRIPTION:Celebrate National Day with up to 35% off at Crocs S'pore,. For more information, visit [ https://singpromos.com/footwear/crocs-spore-national-day-promo-enjoy-25-off-120-35-off-180-spend-till-11-aug-2025-292445/ ]. 
LOCATION:
URL:https://singpromos.com/footwear/crocs-spore-national-day-promo-enjoy-25-off-120-35-off-180-spend-till-11-aug-2025-292445/
END:VEVENT
END:VCALENDAR