BEGIN:VCALENDAR
PRODID:-//SINGPromos.com//NONSGML v1.0//EN
VERSION:2.0
CALSCALE:GREGORIAN
METHOD:PUBLISH
X-WR-CALNAME:SINGPromos.com
X-ORIGINAL-URL:https://singpromos.com
X-WR-CALDESC:Events for SINGPromos.com
BEGIN:VEVENT
DTSTART:20250825T000000
DTEND:20250831T235900
DTSTAMP:20260420T040813
CREATED:20250825T132104
LAST-MODIFIED:20250825T132104
UID:293026@https://singpromos.com
SUMMARY:Love, Bonito Singapore Has Up to 25% Off Online & In-Stores till 31 Aug 2025
DESCRIPTION:Score up to 25% off at Love, Bonito Singapore with these codes. For more information, visit [ https://singpromos.com/fashion-accessories/love-bonito-singapore-has-up-to-25-off-online-in-stores-till-31-aug-2025-293026/ ]. 
LOCATION:
URL:https://singpromos.com/fashion-accessories/love-bonito-singapore-has-up-to-25-off-online-in-stores-till-31-aug-2025-293026/
END:VEVENT
END:VCALENDAR