BEGIN:VCALENDAR
PRODID:-//SINGPromos.com//NONSGML v1.0//EN
VERSION:2.0
CALSCALE:GREGORIAN
METHOD:PUBLISH
X-WR-CALNAME:SINGPromos.com
X-ORIGINAL-URL:https://singpromos.com
X-WR-CALDESC:Events for SINGPromos.com
BEGIN:VEVENT
DTSTART:20250826T000000
DTEND:20250910T235900
DTSTAMP:20260419T232350
CREATED:20250827T052358
LAST-MODIFIED:20250827T020901
UID:293091@https://singpromos.com
SUMMARY:GOG.com Back to School Sale 2025 Has 7,500+ Gaming Deals Till 10 Sep 2025
DESCRIPTION:Over 7,500 titles discounted, DRM-free, yours to keep forever. For more information, visit [ https://singpromos.com/video-games/gog-com-back-to-school-sale-2025-has-7500-gaming-deals-till-10-sep-2025-293091/ ]. 
LOCATION:
URL:https://singpromos.com/video-games/gog-com-back-to-school-sale-2025-has-7500-gaming-deals-till-10-sep-2025-293091/
END:VEVENT
END:VCALENDAR