BEGIN:VCALENDAR
PRODID:-//SINGPromos.com//NONSGML v1.0//EN
VERSION:2.0
CALSCALE:GREGORIAN
METHOD:PUBLISH
X-WR-CALNAME:SINGPromos.com
X-ORIGINAL-URL:https://singpromos.com
X-WR-CALDESC:Events for SINGPromos.com
BEGIN:VEVENT
DTSTART:20250901T000000
DTEND:20260829T235900
DTSTAMP:20260420T230414
CREATED:20250901T104305
LAST-MODIFIED:20250910T223920
UID:293177@https://singpromos.com
SUMMARY:KFC S'pore Save $2 & $5 with Trust Bank Cashback Cards till 29 Aug 2026
DESCRIPTION:Enjoy exclusive KFC Singapore savings with Trust Bank Cashback Cards. For more information, visit [ https://singpromos.com/dining-restaurants-food/kfc-spore-save-2-5-with-trust-bank-cashback-cards-till-31-aug-2026-293177/ ]. 
LOCATION:
URL:https://singpromos.com/dining-restaurants-food/kfc-spore-save-2-5-with-trust-bank-cashback-cards-till-31-aug-2026-293177/
END:VEVENT
END:VCALENDAR