BEGIN:VCALENDAR
PRODID:-//SINGPromos.com//NONSGML v1.0//EN
VERSION:2.0
CALSCALE:GREGORIAN
METHOD:PUBLISH
X-WR-CALNAME:SINGPromos.com
X-ORIGINAL-URL:https://singpromos.com
X-WR-CALDESC:Events for SINGPromos.com
BEGIN:VEVENT
DTSTART:20250908T000000
DTEND:20250908T235900
DTSTAMP:20260422T200622
CREATED:20250907T182442
LAST-MODIFIED:20250902T043139
UID:293393@https://singpromos.com
SUMMARY:Pepper Lunch Express VivoCity Has 1-for-1 Beef Pepper Rice on 8 Sep 2025
DESCRIPTION:Exclusive reopening deals: 1-for-1 beef rice (8 Sep) & $9.90 combo sets (9-12 Sep).. For more information, visit [ https://singpromos.com/dining-restaurants-food/pepper-lunch-express-vivocity-has-1-for-1-beef-pepper-rice-on-8-sep-2025-293393/ ]. 
LOCATION:098585
URL:https://singpromos.com/dining-restaurants-food/pepper-lunch-express-vivocity-has-1-for-1-beef-pepper-rice-on-8-sep-2025-293393/
END:VEVENT
END:VCALENDAR