BEGIN:VCALENDAR
PRODID:-//SINGPromos.com//NONSGML v1.0//EN
VERSION:2.0
CALSCALE:GREGORIAN
METHOD:PUBLISH
X-WR-CALNAME:SINGPromos.com
X-ORIGINAL-URL:https://singpromos.com
X-WR-CALDESC:Events for SINGPromos.com
BEGIN:VEVENT
DTSTART:20250903T000000
DTEND:20250910T235900
DTSTAMP:20260420T040715
CREATED:20250903T141030
LAST-MODIFIED:20250903T141030
UID:293467@https://singpromos.com
SUMMARY:AirAsia Offers Up to 33% OFF Flights until 10 Sep 2025, travel up to Jun 2026
DESCRIPTION:Enjoy big savings on flights from Singapore and beyond with AirAsia's limited-time offer. For more information, visit [ https://singpromos.com/airlines-flights/airasia-offers-up-to-33-off-flights-until-10-sep-2025-travel-up-to-jun-2026-293467/ ]. 
LOCATION:
URL:https://singpromos.com/airlines-flights/airasia-offers-up-to-33-off-flights-until-10-sep-2025-travel-up-to-jun-2026-293467/
END:VEVENT
END:VCALENDAR