BEGIN:VCALENDAR
PRODID:-//SINGPromos.com//NONSGML v1.0//EN
VERSION:2.0
CALSCALE:GREGORIAN
METHOD:PUBLISH
X-WR-CALNAME:SINGPromos.com
X-ORIGINAL-URL:https://singpromos.com
X-WR-CALDESC:Events for SINGPromos.com
BEGIN:VEVENT
DTSTART:20250906T000000
DTEND:20250909T235900
DTSTAMP:20260420T055011
CREATED:20250906T015918
LAST-MODIFIED:20250906T015918
UID:293575@https://singpromos.com
SUMMARY:Crocs Singapore 9.9 Sale offers up to 50% almost everything online until 9 Sep 2025
DESCRIPTION:Step into style and savings. For more information, visit [ https://singpromos.com/footwear/crocs-singapore-9-9-sale-offers-up-to-50-almost-everything-online-until-9-sep-2025-293575/ ]. 
LOCATION:
URL:https://singpromos.com/footwear/crocs-singapore-9-9-sale-offers-up-to-50-almost-everything-online-until-9-sep-2025-293575/
END:VEVENT
END:VCALENDAR