BEGIN:VCALENDAR
PRODID:-//SINGPromos.com//NONSGML v1.0//EN
VERSION:2.0
CALSCALE:GREGORIAN
METHOD:PUBLISH
X-WR-CALNAME:SINGPromos.com
X-ORIGINAL-URL:https://singpromos.com
X-WR-CALDESC:Events for SINGPromos.com
BEGIN:VEVENT
DTSTART:20250909T000000
DTEND:20250921T235900
DTSTAMP:20260420T074511
CREATED:20250908T163655
LAST-MODIFIED:20250906T024129
UID:293587@https://singpromos.com
SUMMARY:Morganfield's S'pore 13th Anniversary Has $13 Deals on Ribs, Sandwiches & More from 9 to 21 Sep 2025
DESCRIPTION:Celebrate 13 years of Sticky Bones up to 50% off $13 specials. For more information, visit [ https://singpromos.com/dining-restaurants-food/morganfields-spore-13th-anniversary-has-13-deals-on-ribs-sandwiches-more-from-9-to-21-sep-2025-293587/ ]. 
LOCATION:038983
URL:https://singpromos.com/dining-restaurants-food/morganfields-spore-13th-anniversary-has-13-deals-on-ribs-sandwiches-more-from-9-to-21-sep-2025-293587/
END:VEVENT
END:VCALENDAR