BEGIN:VCALENDAR
PRODID:-//SINGPromos.com//NONSGML v1.0//EN
VERSION:2.0
CALSCALE:GREGORIAN
METHOD:PUBLISH
X-WR-CALNAME:SINGPromos.com
X-ORIGINAL-URL:https://singpromos.com
X-WR-CALDESC:Events for SINGPromos.com
BEGIN:VEVENT
DTSTART:20250911T000000
DTEND:20250914T235900
DTSTAMP:20260420T055012
CREATED:20250911T025339
LAST-MODIFIED:20250911T025339
UID:293782@https://singpromos.com
SUMMARY:Crocs S'pore Frenzy Sale Offers 25% Off $120 & 35% Off $180 Till 14 Sep 2025
DESCRIPTION:Enjoy big savings at Crocs Singapore with 25% off $120+ spend and 35% off $180+ spend.. For more information, visit [ https://singpromos.com/footwear/crocs-spore-frenzy-sale-offers-25-off-120-35-off-180-till-14-sep-2025-293782/ ]. 
LOCATION:
URL:https://singpromos.com/footwear/crocs-spore-frenzy-sale-offers-25-off-120-35-off-180-till-14-sep-2025-293782/
END:VEVENT
END:VCALENDAR