BEGIN:VCALENDAR
PRODID:-//SINGPromos.com//NONSGML v1.0//EN
VERSION:2.0
CALSCALE:GREGORIAN
METHOD:PUBLISH
X-WR-CALNAME:SINGPromos.com
X-ORIGINAL-URL:https://singpromos.com
X-WR-CALDESC:Events for SINGPromos.com
BEGIN:VEVENT
DTSTART:20250911T000000
DTEND:20250917T235900
DTSTAMP:20260420T055012
CREATED:20250911T144331
LAST-MODIFIED:20250911T144331
UID:293797@https://singpromos.com
SUMMARY:FairPrice Has 50% Off Haagen-Dazs Stick Bar & More Deals Until 17 Sep 2025
DESCRIPTION:Grab half-price treats like premium blueberries, Häagen-Dazs & saba fillet at FairPrice. For more information, visit [ https://singpromos.com/dining-restaurants-food/fairprice-has-50-off-haagen-dazs-stick-bar-more-deals-until-17-sep-2025-293797/ ]. 
LOCATION:
URL:https://singpromos.com/dining-restaurants-food/fairprice-has-50-off-haagen-dazs-stick-bar-more-deals-until-17-sep-2025-293797/
END:VEVENT
END:VCALENDAR