BEGIN:VCALENDAR
PRODID:-//SINGPromos.com//NONSGML v1.0//EN
VERSION:2.0
CALSCALE:GREGORIAN
METHOD:PUBLISH
X-WR-CALNAME:SINGPromos.com
X-ORIGINAL-URL:https://singpromos.com
X-WR-CALDESC:Events for SINGPromos.com
BEGIN:VEVENT
DTSTART:20250913T000000
DTEND:20250915T235900
DTSTAMP:20260420T005557
CREATED:20250912T092610
LAST-MODIFIED:20250916T221035
UID:293855@https://singpromos.com
SUMMARY:Coffee Bean S'pore 2-for-$10 Hazelnut Dark Chocolate Ice Blended® App Promo (13-15 Sep)
DESCRIPTION:Indulge in Coffee Bean's Hazelnut Dark Chocolate Ice Blended with an App-exclusive 2-for-$10 deal. For more information, visit [ https://singpromos.com/dining-restaurants-food/coffee-bean-spore-2-for-10-hazelnut-dark-chocolate-ice-blended-app-promo-13-15-sep-293855/ ]. 
LOCATION:
URL:https://singpromos.com/dining-restaurants-food/coffee-bean-spore-2-for-10-hazelnut-dark-chocolate-ice-blended-app-promo-13-15-sep-293855/
END:VEVENT
END:VCALENDAR