BEGIN:VCALENDAR
PRODID:-//SINGPromos.com//NONSGML v1.0//EN
VERSION:2.0
CALSCALE:GREGORIAN
METHOD:PUBLISH
X-WR-CALNAME:SINGPromos.com
X-ORIGINAL-URL:https://singpromos.com
X-WR-CALDESC:Events for SINGPromos.com
BEGIN:VEVENT
DTSTART:20250918T000000
DTEND:20250927T235900
DTSTAMP:20260420T055013
CREATED:20250918T014502
LAST-MODIFIED:20250918T012051
UID:294005@https://singpromos.com
SUMMARY:Crocs S'pore Flag Off Sale Save 25% Off $120+ & 35% Off $180+ Till 27 Sep 2025
DESCRIPTION:Rev up your style. For more information, visit [ https://singpromos.com/footwear/crocs-spore-flag-off-sale-save-25-off-120-35-off-180-till-27-sep-2025-294005/ ]. 
LOCATION:
URL:https://singpromos.com/footwear/crocs-spore-flag-off-sale-save-25-off-120-35-off-180-till-27-sep-2025-294005/
END:VEVENT
END:VCALENDAR