BEGIN:VCALENDAR
PRODID:-//SINGPromos.com//NONSGML v1.0//EN
VERSION:2.0
CALSCALE:GREGORIAN
METHOD:PUBLISH
X-WR-CALNAME:SINGPromos.com
X-ORIGINAL-URL:https://singpromos.com
X-WR-CALDESC:Events for SINGPromos.com
BEGIN:VEVENT
DTSTART:20250918T000000
DTEND:20251116T235900
DTSTAMP:20260422T073117
CREATED:20250918T191105
LAST-MODIFIED:20250918T191105
UID:294038@https://singpromos.com
SUMMARY:Brother's Islandwide Printer Sale: Vouchers & Deals Till 16 Nov 2025
DESCRIPTION:Grab Brother printers & get NTUC vouchers up to $80. For more information, visit [ https://singpromos.com/computers-pc/brothers-islandwide-printer-sale-vouchers-deals-till-16-nov-2025-294038/ ]. 
LOCATION:
URL:https://singpromos.com/computers-pc/brothers-islandwide-printer-sale-vouchers-deals-till-16-nov-2025-294038/
END:VEVENT
END:VCALENDAR