BEGIN:VCALENDAR
PRODID:-//SINGPromos.com//NONSGML v1.0//EN
VERSION:2.0
CALSCALE:GREGORIAN
METHOD:PUBLISH
X-WR-CALNAME:SINGPromos.com
X-ORIGINAL-URL:https://singpromos.com
X-WR-CALDESC:Events for SINGPromos.com
BEGIN:VEVENT
DTSTART:20250920T000000
DTEND:20251019T235900
DTSTAMP:20260422T082230
CREATED:20250920T140756
LAST-MODIFIED:20250920T141734
UID:294071@https://singpromos.com
SUMMARY:TOMORO COFFEE 1-for-1 Hojicha Latte Deal with PAssion Card (20 Sep - 19 Oct 2025)
DESCRIPTION:Sip, save and share. For more information, visit [ https://singpromos.com/dining-restaurants-food/tomoro-coffee-1-for-1-hojicha-latte-deal-with-passion-card-20-sep-19-oct-2025-294071/ ]. 
LOCATION:
URL:https://singpromos.com/dining-restaurants-food/tomoro-coffee-1-for-1-hojicha-latte-deal-with-passion-card-20-sep-19-oct-2025-294071/
END:VEVENT
END:VCALENDAR