BEGIN:VCALENDAR
PRODID:-//SINGPromos.com//NONSGML v1.0//EN
VERSION:2.0
CALSCALE:GREGORIAN
METHOD:PUBLISH
X-WR-CALNAME:SINGPromos.com
X-ORIGINAL-URL:https://singpromos.com
X-WR-CALDESC:Events for SINGPromos.com
BEGIN:VEVENT
DTSTART:20250801T000000
DTEND:20251231T235900
DTSTAMP:20260420T003327
CREATED:20250917T141956
LAST-MODIFIED:20250924T143536
UID:294215@https://singpromos.com
SUMMARY:Malaysia Airlines DBS/POSB promo offers up to 12% off flights until 31 Dec 2025
DESCRIPTION:Enjoy exclusive Malaysia Airlines flight discounts with DBS cards until 31 Dec 2025.. For more information, visit [ https://singpromos.com/airlines-flights/malaysia-airlines-dbs-posb-promo-offers-up-to-12-off-flights-until-31-dec-2025-294215/ ]. 
LOCATION:
URL:https://singpromos.com/airlines-flights/malaysia-airlines-dbs-posb-promo-offers-up-to-12-off-flights-until-31-dec-2025-294215/
END:VEVENT
END:VCALENDAR