BEGIN:VCALENDAR
PRODID:-//SINGPromos.com//NONSGML v1.0//EN
VERSION:2.0
CALSCALE:GREGORIAN
METHOD:PUBLISH
X-WR-CALNAME:SINGPromos.com
X-ORIGINAL-URL:https://singpromos.com
X-WR-CALDESC:Events for SINGPromos.com
BEGIN:VEVENT
DTSTART:20251010T000000
DTEND:20251011T235900
DTSTAMP:20260420T023735
CREATED:20250926T090659
LAST-MODIFIED:20250925T221650
UID:294279@https://singpromos.com
SUMMARY:Secret Recipe S'pore 1-for-1 Whole Cakes 26th Anniversary Promo (10-11 Oct 2025)
DESCRIPTION:Celebrate Secret Recipe's 26th birthday with 1-for-1 whole cakes. For more information, visit [ https://singpromos.com/dining-restaurants-food/secret-recipe-spore-1-for-1-whole-cakes-26th-anniversary-promo-10-11-oct-2025-294279/ ]. 
LOCATION:
URL:https://singpromos.com/dining-restaurants-food/secret-recipe-spore-1-for-1-whole-cakes-26th-anniversary-promo-10-11-oct-2025-294279/
END:VEVENT
END:VCALENDAR