BEGIN:VCALENDAR
PRODID:-//SINGPromos.com//NONSGML v1.0//EN
VERSION:2.0
CALSCALE:GREGORIAN
METHOD:PUBLISH
X-WR-CALNAME:SINGPromos.com
X-ORIGINAL-URL:https://singpromos.com
X-WR-CALDESC:Events for SINGPromos.com
BEGIN:VEVENT
DTSTART:20250928T000000
DTEND:20250928T235900
DTSTAMP:20260420T055005
CREATED:20250928T020420
LAST-MODIFIED:20251011T035128
UID:294334@https://singpromos.com
SUMMARY:Crocs Singapore 24hr Flash Sale 30% Off Almost Everything on 28 Sep 2025
DESCRIPTION:Snag 30% off Crocs footwear and accessories for one day only. For more information, visit [ https://singpromos.com/footwear/crocs-singapore-24hr-flash-sale-30-off-almost-everything-on-28-sep-2025-294334/ ]. 
LOCATION:
URL:https://singpromos.com/footwear/crocs-singapore-24hr-flash-sale-30-off-almost-everything-on-28-sep-2025-294334/
END:VEVENT
END:VCALENDAR