BEGIN:VCALENDAR
PRODID:-//SINGPromos.com//NONSGML v1.0//EN
VERSION:2.0
CALSCALE:GREGORIAN
METHOD:PUBLISH
X-WR-CALNAME:SINGPromos.com
X-ORIGINAL-URL:https://singpromos.com
X-WR-CALDESC:Events for SINGPromos.com
BEGIN:VEVENT
DTSTART:20250925T000000
DTEND:20250930T235900
DTSTAMP:20260420T055011
CREATED:20250928T021531
LAST-MODIFIED:20250930T020921
UID:294340@https://singpromos.com
SUMMARY:Skechers Singapore 50% OFF Selected Styles Member's Week Promo till 30 Sep 2025
DESCRIPTION:Shop Skechers Member's Week deals online and enjoy 50% off selected products. For more information, visit [ https://singpromos.com/footwear/skechers-singapore-50-off-selected-styles-members-week-promo-till-30-sep-2025-294340/ ]. 
LOCATION:
URL:https://singpromos.com/footwear/skechers-singapore-50-off-selected-styles-members-week-promo-till-30-sep-2025-294340/
END:VEVENT
END:VCALENDAR