BEGIN:VCALENDAR
PRODID:-//SINGPromos.com//NONSGML v1.0//EN
VERSION:2.0
CALSCALE:GREGORIAN
METHOD:PUBLISH
X-WR-CALNAME:SINGPromos.com
X-ORIGINAL-URL:https://singpromos.com
X-WR-CALDESC:Events for SINGPromos.com
BEGIN:VEVENT
DTSTART:20251008T000000
DTEND:20251021T235900
DTSTAMP:20260424T034708
CREATED:20251008T024531
LAST-MODIFIED:20251022T022754
UID:294715@https://singpromos.com
SUMMARY:7-Eleven S'pore New $1 Deals Till 21 Oct - Meiji Yan Yan, Cheezels, Biscoff, Milo Biscuits & More
DESCRIPTION:Grab snack and drink deals from just $1. For more information, visit [ https://singpromos.com/dining-restaurants-food/7-eleven-spore-new-1-deals-till-21-oct-meiji-yan-yan-cheezels-biscoff-milo-biscuits-more-294715/ ]. 
LOCATION:
URL:https://singpromos.com/dining-restaurants-food/7-eleven-spore-new-1-deals-till-21-oct-meiji-yan-yan-cheezels-biscoff-milo-biscuits-more-294715/
END:VEVENT
END:VCALENDAR