BEGIN:VCALENDAR
PRODID:-//SINGPromos.com//NONSGML v1.0//EN
VERSION:2.0
CALSCALE:GREGORIAN
METHOD:PUBLISH
X-WR-CALNAME:SINGPromos.com
X-ORIGINAL-URL:https://singpromos.com
X-WR-CALDESC:Events for SINGPromos.com
BEGIN:VEVENT
DTSTART:20251010T000000
DTEND:20251231T235900
DTSTAMP:20260420T220307
CREATED:20251010T183924
LAST-MODIFIED:20251201T212510
UID:294816@https://singpromos.com
SUMMARY:Enjoy 60% Off Selected Attractions with POSB Cards till 31 Dec 2025
DESCRIPTION:Get 60% savings on top Singapore attractions when you pay with POSB Cards. For more information, visit [ https://singpromos.com/banks-credit-cards/enjoy-60-off-selected-attractions-with-posb-cards-till-31-dec-2025-294816/ ]. 
LOCATION:
URL:https://singpromos.com/banks-credit-cards/enjoy-60-off-selected-attractions-with-posb-cards-till-31-dec-2025-294816/
END:VEVENT
END:VCALENDAR