BEGIN:VCALENDAR
PRODID:-//SINGPromos.com//NONSGML v1.0//EN
VERSION:2.0
CALSCALE:GREGORIAN
METHOD:PUBLISH
X-WR-CALNAME:SINGPromos.com
X-ORIGINAL-URL:https://singpromos.com
X-WR-CALDESC:Events for SINGPromos.com
BEGIN:VEVENT
DTSTART:20251014T000000
DTEND:20251103T235900
DTSTAMP:20260422T073116
CREATED:20251014T233835
LAST-MODIFIED:20251014T234125
UID:294949@https://singpromos.com
SUMMARY:Parallels Desktop FLASH Sale 45% Off Till 3 Nov 2025
DESCRIPTION:Run Windows apps seamlessly on your macOS device today. For more information, visit [ https://singpromos.com/computers-pc/parallels-desktop-flash-sale-45-off-till-3-nov-2025-294949/ ]. 
LOCATION:
URL:https://singpromos.com/computers-pc/parallels-desktop-flash-sale-45-off-till-3-nov-2025-294949/
END:VEVENT
END:VCALENDAR