BEGIN:VCALENDAR
PRODID:-//SINGPromos.com//NONSGML v1.0//EN
VERSION:2.0
CALSCALE:GREGORIAN
METHOD:PUBLISH
X-WR-CALNAME:SINGPromos.com
X-ORIGINAL-URL:https://singpromos.com
X-WR-CALDESC:Events for SINGPromos.com
BEGIN:VEVENT
DTSTART:20251028T000000
DTEND:20251105T235900
DTSTAMP:20260419T232342
CREATED:20251030T021416
LAST-MODIFIED:20251030T021438
UID:295300@https://singpromos.com
SUMMARY:GOG.com Autumn Sale 2025 Has Over 7,000 DRM-free game deals till 5 Nov 2025
DESCRIPTION:Over 7,000 DRM-free deals. For more information, visit [ https://singpromos.com/video-games/gog-com-autumn-sale-2025-has-over-7000-drm-free-game-deals-till-5-nov-2025-295300/ ]. 
LOCATION:
URL:https://singpromos.com/video-games/gog-com-autumn-sale-2025-has-over-7000-drm-free-game-deals-till-5-nov-2025-295300/
END:VEVENT
END:VCALENDAR