BEGIN:VCALENDAR
PRODID:-//SINGPromos.com//NONSGML v1.0//EN
VERSION:2.0
CALSCALE:GREGORIAN
METHOD:PUBLISH
X-WR-CALNAME:SINGPromos.com
X-ORIGINAL-URL:https://singpromos.com
X-WR-CALDESC:Events for SINGPromos.com
BEGIN:VEVENT
DTSTART:20251106T000000
DTEND:20251109T235900
DTSTAMP:20260424T034622
CREATED:20251106T033621
LAST-MODIFIED:20251106T033649
UID:295569@https://singpromos.com
SUMMARY:Sheng Siong 4-day Specials Has Ben & Jerry's at 3-for-$24.50 & More Deals till 9 Nov 2025
DESCRIPTION:Snag Sheng Siong's limited-time bargains on essentials and sweet treats. For more information, visit [ https://singpromos.com/dining-restaurants-food/sheng-siong-4-day-specials-has-ben-jerrys-at-3-for-24-50-more-deals-till-9-nov-2025-295569/ ]. 
LOCATION:
URL:https://singpromos.com/dining-restaurants-food/sheng-siong-4-day-specials-has-ben-jerrys-at-3-for-24-50-more-deals-till-9-nov-2025-295569/
END:VEVENT
END:VCALENDAR